BEGIN:VCALENDAR
VERSION:2.0
PRODID:-//Tukios.com/
BEGIN:VEVENT
UID:eebe2cd0-5a81-47be-b7ac-7ed2f9ca768b@www.coxandson.com
DTSTAMP:20260422T195005Z
DTSTART:20260424T151500Z
DTEND:20260424T161500Z
SUMMARY:Graveside Service
DESCRIPTION:
URL:https://www.coxandson.com/obituaries/delores-cathey
LOCATION: Near New Haven, IL  New Haven IL 
GEO:37.9086568;-88.1292021
END:VEVENT
END:VCALENDAR